BEGIN:VCALENDAR
VERSION:2.0
PRODID:-//ABDO Athlétisme - ECPv6.15.20//NONSGML v1.0//EN
CALSCALE:GREGORIAN
METHOD:PUBLISH
X-WR-CALNAME:ABDO Athlétisme
X-ORIGINAL-URL:https://abdoathle.fr
X-WR-CALDESC:Évènements pour ABDO Athlétisme
REFRESH-INTERVAL;VALUE=DURATION:PT1H
X-Robots-Tag:noindex
X-PUBLISHED-TTL:PT1H
BEGIN:VTIMEZONE
TZID:Europe/Paris
BEGIN:DAYLIGHT
TZOFFSETFROM:+0100
TZOFFSETTO:+0200
TZNAME:CEST
DTSTART:20240331T010000
END:DAYLIGHT
BEGIN:STANDARD
TZOFFSETFROM:+0200
TZOFFSETTO:+0100
TZNAME:CET
DTSTART:20241027T010000
END:STANDARD
BEGIN:DAYLIGHT
TZOFFSETFROM:+0100
TZOFFSETTO:+0200
TZNAME:CEST
DTSTART:20250330T010000
END:DAYLIGHT
BEGIN:STANDARD
TZOFFSETFROM:+0200
TZOFFSETTO:+0100
TZNAME:CET
DTSTART:20251026T010000
END:STANDARD
BEGIN:DAYLIGHT
TZOFFSETFROM:+0100
TZOFFSETTO:+0200
TZNAME:CEST
DTSTART:20260329T010000
END:DAYLIGHT
BEGIN:STANDARD
TZOFFSETFROM:+0200
TZOFFSETTO:+0100
TZNAME:CET
DTSTART:20261025T010000
END:STANDARD
END:VTIMEZONE
BEGIN:VEVENT
DTSTART;VALUE=DATE:20250119
DTEND;VALUE=DATE:20250120
DTSTAMP:20260420T142545
CREATED:20241102T171153Z
LAST-MODIFIED:20241102T172453Z
UID:37766-1737244800-1737331199@abdoathle.fr
SUMMARY:Championnat Régional de Cross
DESCRIPTION:à Jablines
URL:https://abdoathle.fr/event/championnat-regional-de-cross/
LOCATION:Jablines\, Île de Loisirs de Jablines-Annet\, JABLINES\, 77450
CATEGORIES:FSGT,FSGT - Cross
END:VEVENT
END:VCALENDAR