BEGIN:VCALENDAR
VERSION:2.0
PRODID:-//ABDO Athlétisme - ECPv6.15.20//NONSGML v1.0//EN
CALSCALE:GREGORIAN
METHOD:PUBLISH
X-ORIGINAL-URL:https://abdoathle.fr
X-WR-CALDESC:Évènements pour ABDO Athlétisme
REFRESH-INTERVAL;VALUE=DURATION:PT1H
X-Robots-Tag:noindex
X-PUBLISHED-TTL:PT1H
BEGIN:VTIMEZONE
TZID:Europe/Paris
BEGIN:DAYLIGHT
TZOFFSETFROM:+0100
TZOFFSETTO:+0200
TZNAME:CEST
DTSTART:20240331T010000
END:DAYLIGHT
BEGIN:STANDARD
TZOFFSETFROM:+0200
TZOFFSETTO:+0100
TZNAME:CET
DTSTART:20241027T010000
END:STANDARD
BEGIN:DAYLIGHT
TZOFFSETFROM:+0100
TZOFFSETTO:+0200
TZNAME:CEST
DTSTART:20250330T010000
END:DAYLIGHT
BEGIN:STANDARD
TZOFFSETFROM:+0200
TZOFFSETTO:+0100
TZNAME:CET
DTSTART:20251026T010000
END:STANDARD
BEGIN:DAYLIGHT
TZOFFSETFROM:+0100
TZOFFSETTO:+0200
TZNAME:CEST
DTSTART:20260329T010000
END:DAYLIGHT
BEGIN:STANDARD
TZOFFSETFROM:+0200
TZOFFSETTO:+0100
TZNAME:CET
DTSTART:20261025T010000
END:STANDARD
END:VTIMEZONE
BEGIN:VEVENT
DTSTART;VALUE=DATE:20251005
DTEND;VALUE=DATE:20251006
DTSTAMP:20260424T124205
CREATED:20251104T230158Z
LAST-MODIFIED:20251104T230210Z
UID:37953-1759622400-1759708799@abdoathle.fr
SUMMARY:Trail des Hauteurs
DESCRIPTION:
URL:https://abdoathle.fr/event/trail-des-hauteures/
CATEGORIES:FSGT,FSGT - TRAIL
END:VEVENT
BEGIN:VEVENT
DTSTART;VALUE=DATE:20251019
DTEND;VALUE=DATE:20251020
DTSTAMP:20260424T124205
CREATED:20251104T230514Z
LAST-MODIFIED:20251104T231424Z
UID:37956-1760832000-1760918399@abdoathle.fr
SUMMARY:Trail du Dodo
DESCRIPTION:
URL:https://abdoathle.fr/event/trail-du-dodo/
CATEGORIES:FSGT - TRAIL
END:VEVENT
END:VCALENDAR