BEGIN:VCALENDAR
VERSION:2.0
PRODID:-//ABDO Athlétisme - ECPv6.15.20//NONSGML v1.0//EN
CALSCALE:GREGORIAN
METHOD:PUBLISH
X-ORIGINAL-URL:https://abdoathle.fr
X-WR-CALDESC:Évènements pour ABDO Athlétisme
REFRESH-INTERVAL;VALUE=DURATION:PT1H
X-Robots-Tag:noindex
X-PUBLISHED-TTL:PT1H
BEGIN:VTIMEZONE
TZID:Europe/Paris
BEGIN:DAYLIGHT
TZOFFSETFROM:+0100
TZOFFSETTO:+0200
TZNAME:CEST
DTSTART:20240331T010000
END:DAYLIGHT
BEGIN:STANDARD
TZOFFSETFROM:+0200
TZOFFSETTO:+0100
TZNAME:CET
DTSTART:20241027T010000
END:STANDARD
BEGIN:DAYLIGHT
TZOFFSETFROM:+0100
TZOFFSETTO:+0200
TZNAME:CEST
DTSTART:20250330T010000
END:DAYLIGHT
BEGIN:STANDARD
TZOFFSETFROM:+0200
TZOFFSETTO:+0100
TZNAME:CET
DTSTART:20251026T010000
END:STANDARD
BEGIN:DAYLIGHT
TZOFFSETFROM:+0100
TZOFFSETTO:+0200
TZNAME:CEST
DTSTART:20260329T010000
END:DAYLIGHT
BEGIN:STANDARD
TZOFFSETFROM:+0200
TZOFFSETTO:+0100
TZNAME:CET
DTSTART:20261025T010000
END:STANDARD
BEGIN:DAYLIGHT
TZOFFSETFROM:+0100
TZOFFSETTO:+0200
TZNAME:CEST
DTSTART:20270328T010000
END:DAYLIGHT
BEGIN:STANDARD
TZOFFSETFROM:+0200
TZOFFSETTO:+0100
TZNAME:CET
DTSTART:20271031T010000
END:STANDARD
END:VTIMEZONE
BEGIN:VEVENT
DTSTART;VALUE=DATE:20260417
DTEND;VALUE=DATE:20260418
DTSTAMP:20260423T120202
CREATED:20260331T194130Z
LAST-MODIFIED:20260331T194130Z
UID:38062-1776384000-1776470399@abdoathle.fr
SUMMARY:FSGT Soirée Delaune
DESCRIPTION:Noisy \n  \nLes programmes vont suivre
URL:https://abdoathle.fr/event/fsgt-soiree-delaune/
CATEGORIES:FSGT,FSGT - Piste
END:VEVENT
BEGIN:VEVENT
DTSTART;VALUE=DATE:20260416
DTEND;VALUE=DATE:20260417
DTSTAMP:20260423T120202
CREATED:20260331T194023Z
LAST-MODIFIED:20260402T174629Z
UID:38059-1776297600-1776383999@abdoathle.fr
SUMMARY:FSGT Suite Champ Depart A Saint Ouen
DESCRIPTION:Marteau\, Marche\, 5000 course\, Steeple \nProgramme à venir \n 
URL:https://abdoathle.fr/event/fsgt-suite-champ-depart-a-saint-ouen/
CATEGORIES:FSGT,FSGT - Piste
END:VEVENT
BEGIN:VEVENT
DTSTART;VALUE=DATE:20260415
DTEND;VALUE=DATE:20260416
DTSTAMP:20260423T120202
CREATED:20251104T232527Z
LAST-MODIFIED:20260220T214250Z
UID:37975-1776211200-1776297599@abdoathle.fr
SUMMARY:FSGT Championnat Départemental Jeunes et adultes
DESCRIPTION:mercredi 15 avril 2026 Piste Championnat Départemental Jeunes et adultes Tremblay ?
URL:https://abdoathle.fr/event/championnat-departemental-jeunes-et-adultes-2/
CATEGORIES:FSGT - Piste
END:VEVENT
BEGIN:VEVENT
DTSTART;VALUE=DATE:20260412
DTEND;VALUE=DATE:20260413
DTSTAMP:20260423T120202
CREATED:20251203T202925Z
LAST-MODIFIED:20260211T095156Z
UID:38002-1775952000-1776038399@abdoathle.fr
SUMMARY:FSGT Viviccitta 94
DESCRIPTION:
URL:https://abdoathle.fr/event/viviccitta-94/
CATEGORIES:FSGT,FSGT - Route
END:VEVENT
BEGIN:VEVENT
DTSTART;VALUE=DATE:20260412
DTEND;VALUE=DATE:20260413
DTSTAMP:20260423T120202
CREATED:20251104T232451Z
LAST-MODIFIED:20260402T173956Z
UID:37973-1775952000-1776038399@abdoathle.fr
SUMMARY:FSGT Champ Départemental Jeunes et adultes
DESCRIPTION:dimanche 12 avril 2026 Piste Championnat Départemental Jeunes et adultes Blanc Mesnil
URL:https://abdoathle.fr/event/championnat-departemental-jeunes-et-adultes/
CATEGORIES:FSGT,FSGT - Piste
END:VEVENT
BEGIN:VEVENT
DTSTART;VALUE=DATE:20260411
DTEND;VALUE=DATE:20260412
DTSTAMP:20260423T120202
CREATED:20251104T232406Z
LAST-MODIFIED:20260211T095230Z
UID:37971-1775865600-1775951999@abdoathle.fr
SUMMARY:FSGT Quadrathlon Enfants
DESCRIPTION:samedi 11 avril 2026 Piste Quadrathlon Enfants Saint-Ouen
URL:https://abdoathle.fr/event/quadrathlon-enfants-3/
CATEGORIES:FSGT,FSGT - Piste
END:VEVENT
BEGIN:VEVENT
DTSTART;VALUE=DATE:20260405
DTEND;VALUE=DATE:20260406
DTSTAMP:20260423T120202
CREATED:20251104T232309Z
LAST-MODIFIED:20260220T214608Z
UID:37969-1775347200-1775433599@abdoathle.fr
SUMMARY:FSGT Vivicitta - Saint Ouen
DESCRIPTION:dimanche 5 avril 2026 Route Vivicitta TC Saint-Ouen (date à confirmer)
URL:https://abdoathle.fr/event/vivicitta-3/
CATEGORIES:FSGT - Route
END:VEVENT
BEGIN:VEVENT
DTSTART;VALUE=DATE:20260328
DTEND;VALUE=DATE:20260329
DTSTAMP:20260423T120202
CREATED:20251104T232222Z
LAST-MODIFIED:20260220T221804Z
UID:37967-1774656000-1774742399@abdoathle.fr
SUMMARY:FSGT 1er Tour du Rousseau Enfants
DESCRIPTION:dimanche 29 mars 2026 Piste 1er Tour du Rousseau Enfants Vitry \n  \nCalendrier athlétisme
URL:https://abdoathle.fr/event/1er-tour-du-rousseau-enfants/
LOCATION:Vitry\, 94 rue Gabriel Peri\, VITRY SUR SEINE\, 94400\, France
CATEGORIES:FSGT,FSGT - Piste
END:VEVENT
BEGIN:VEVENT
DTSTART;VALUE=DATE:20260325
DTEND;VALUE=DATE:20260326
DTSTAMP:20260423T120203
CREATED:20251104T224733Z
LAST-MODIFIED:20260220T220927Z
UID:37946-1774396800-1774483199@abdoathle.fr
SUMMARY:FFA MERCREDI D'AULNAY
DESCRIPTION:MERCREDI D’AULNAY \n\n\n Mercredi 25 mars 2026\n Stade du Moulin Neuf – 6 avenue du Maréchal Juin\, 93600\, AULNAY-SOUS-BOIS\n \n de 14h00 à 15h30 EA-PO (50m – Longueur – Vortex) \n de 15h30 à 17h00 BE-MI (50m – Longueur – Poids) \n\n\n Inscriptions sur place
URL:https://abdoathle.fr/event/mercredi-daulnay-5/
CATEGORIES:FFA,FFA - Piste
END:VEVENT
BEGIN:VEVENT
DTSTART;VALUE=DATE:20260320
DTEND;VALUE=DATE:20260321
DTSTAMP:20260423T120203
CREATED:20260220T222955Z
LAST-MODIFIED:20260220T222955Z
UID:38055-1773964800-1774051199@abdoathle.fr
SUMMARY:FFA AG CDA93
DESCRIPTION:
URL:https://abdoathle.fr/event/ffa-ag-cda93/
CATEGORIES:FFA
END:VEVENT
BEGIN:VEVENT
DTSTART;VALUE=DATE:20260315
DTEND;VALUE=DATE:20260316
DTSTAMP:20260423T120203
CREATED:20260220T220446Z
LAST-MODIFIED:20260220T221110Z
UID:38042-1773532800-1773619199@abdoathle.fr
SUMMARY:FFA Les Foulées Jazy
DESCRIPTION:Dimanche 15 mars 2026 – Parc Départemental Georges Valbon \n\n\nPRÉSENTATION\n \n\n\n \nUn évènement pour tous !\n \nOuvertes à tous les coureurs\, débutants comme confirmés\, Les Foulées Jazy proposent plusieurs formats de course pour satisfaire toutes les envies :\n \n 5 km : une distance idéale pour débuter ou se challenger ;\n 10 km : pour viser un chrono ou relever un défi personnel ;\n Le Mile (1\,609 km) : une distance mythique inspirée du record du monde du mile.\n \nLe parcours\, plat et rapide\, est parfaitement adapté pour se faire plaisir\, battre son record personnel et partager un moment sportif dans une ambiance chaleureuse\, tout en profitant d’un cadre verdoyant exceptionnel.\n\n\n \n \nUne course labellisée et qualificative\n\n \nLes épreuves bénéficient du label FFA Bronze\, gage de qualité organisationnelle et de respect des standards fédéraux.\n \nÀ ce titre\, Les Foulées Jazy sont qualificatives pour les Championnats de France\, offrant aux athlètes licenciés une véritable opportunité de se qualifier sur un parcours reconnu et performant.\n\n \n \nUn hommage à une légende de l’athlétisme\n \n\nL’événement rend hommage à Michel JAZY\, figure historique de l’athlétisme français et ancien athlète du CA Montreuil 93\, médaillé olympique et multiple recordman du monde.\n \nÀ travers cette course\, le CDA 93 et le CA Montreuil 93 souhaitent perpétuer l’héritage sportif et humain laissé par ce grand champion. Les Foulées Jazy s’inscrivent ainsi pleinement dans la tradition et l’esprit du club\, en célébrant la performance\, la passion et le dépassement de soi\, valeurs fondamentales de l’athlétisme.\n\n \n \nUn cadre unique en Ile-de-France\n \nLes Foulées Jazy se déroulent au Parc Georges-Valbon\, l’un des plus grands espaces verts de la région\, idéal pour courir en toute sécurité\, entouré de nature et dans une ambiance chaleureuse et festive.\n\n \n\n \nInformations pratiques\n \n📆 Date : dimanche 15 mars 2026\n📍 Lieu : Parc départemental Georges-Valbon – La Courneuve (93)\n🏁 Départs : à partir de 9h30\n👟 Épreuves ouvertes à tous les niveaux : courses populaires et courses élites\n \nPour consulter toutes les informations détaillées\, rendez-vous sur le site officiel de l’événement :\n \n Cliquez pour accéder au site de l’évènement
URL:https://abdoathle.fr/event/ffa-les-foulees-jazy/
CATEGORIES:FFA,FFA - Route
END:VEVENT
BEGIN:VEVENT
DTSTART;VALUE=DATE:20260315
DTEND;VALUE=DATE:20260316
DTSTAMP:20260423T120203
CREATED:20251104T232110Z
LAST-MODIFIED:20260220T221355Z
UID:37965-1773532800-1773619199@abdoathle.fr
SUMMARY:FSGT Piste Championnat Fédéral Adultes
DESCRIPTION:dimanche 15 mars 2026 Piste Championnat Fédéral Adultes a Val de Reuil \nChampionnat de France FSGT EN SALLE – 15 mars 2026 à Val de Reuil (27) \n 
URL:https://abdoathle.fr/event/piste-championnat-federal-adultes/
CATEGORIES:FSGT - Piste
END:VEVENT
BEGIN:VEVENT
DTSTART;VALUE=DATE:20260307
DTEND;VALUE=DATE:20260308
DTSTAMP:20260423T120203
CREATED:20260220T220137Z
LAST-MODIFIED:20260220T220158Z
UID:38039-1772841600-1772927999@abdoathle.fr
SUMMARY:FSGT Festi'Elles
DESCRIPTION:Campus Condorcet\, Aubervilliers
URL:https://abdoathle.fr/event/fsgt-festielles/
CATEGORIES:FSGT
END:VEVENT
BEGIN:VEVENT
DTSTART;VALUE=DATE:20260222
DTEND;VALUE=DATE:20260223
DTSTAMP:20260423T120203
CREATED:20251104T232013Z
LAST-MODIFIED:20260220T221259Z
UID:37963-1771718400-1771804799@abdoathle.fr
SUMMARY:FSGT Cross Fédéral
DESCRIPTION:dimanche 22 février 2026 Cross Fédéral FSGT Jeunes et adultes Harras-du-Pin \nChampionnat de France FSGT DE CROSS COUNTRY – 22 février 2026 au Haras du Pin (61) \nLa liste des inscrit·es
URL:https://abdoathle.fr/event/cross-federal-fsgt-2/
CATEGORIES:FSGT - Cross
END:VEVENT
BEGIN:VEVENT
DTSTART;VALUE=DATE:20260221
DTEND;VALUE=DATE:20260222
DTSTAMP:20260423T120203
CREATED:20251104T224648Z
LAST-MODIFIED:20260220T220800Z
UID:37944-1771632000-1771718399@abdoathle.fr
SUMMARY:FFA CHAMP 93 D'EPREUVES COMBINEES BE-MI EN SALLE + épreuves ouvertes
DESCRIPTION: Centre Sportif Jules Ladoumègue – 37 Rte des Petits Ponts\, 75019\, PARIS \n\n\n\n\n Règlement & programme\n Inscriptions des athlètes dans la rubrique engagements avant le mercredi 18 février 2025 à 22h00\n Inscriptions des officiels/juges dans la rubrique engagements avant le dimanche 15 février 2025 à 22h00\n\n \n\n\n\n\nLe nombre d’officiels/juges à fournir par club pour ces championnats est de :\n 1 à 5 athlètes engagés : 1 officiel\n 6 à 10 athlètes : 2 officiels\n 11 à 15 athlètes : 3 officiels\n 16 à 20 athlètes : 4 officiels\n plus de 20 athlètes : 5 officiels
URL:https://abdoathle.fr/event/championnats-93-depreuves-combinees-be-mi-en-salle-epreuves-ouvertes/
CATEGORIES:FFA,FFA- Salle
END:VEVENT
BEGIN:VEVENT
DTSTART;VALUE=DATE:20260218
DTEND;VALUE=DATE:20260219
DTSTAMP:20260423T120203
CREATED:20251104T224607Z
LAST-MODIFIED:20260220T215305Z
UID:37942-1771372800-1771459199@abdoathle.fr
SUMMARY:FFA MERCREDI D'AULNAY
DESCRIPTION:MERCREDI D’AULNAY \n📆 Mercredi 18 février 2026\n📍 Stade du Moulin Neuf – 6 avenue du Maréchal Juin\, 93600\, AULNAY-SOUS-BOIS \n➡️ de 14h00 à 15h30 EA-PO (50m – Longueur – Vortex)\n➡️ de 15h30 à 17h00 BE-MI (50m – Longueur – Poids)  \n Inscriptions sur place
URL:https://abdoathle.fr/event/mercredi-daulnay-4/
CATEGORIES:FFA,FFA - Piste
END:VEVENT
BEGIN:VEVENT
DTSTART;VALUE=DATE:20260215
DTEND;VALUE=DATE:20260216
DTSTAMP:20260423T120203
CREATED:20251031T221221Z
LAST-MODIFIED:20260220T215240Z
UID:37898-1771113600-1771199999@abdoathle.fr
SUMMARY:FSGT Champ Rég en salle adultes à Nogent-sur-Oise.
DESCRIPTION:
URL:https://abdoathle.fr/event/championnats-regionaux-en-salle-adultes-dimanche-15-fevrier-2026-a-nogent-sur-oise/
CATEGORIES:FSGT,FSGT - Salle
END:VEVENT
BEGIN:VEVENT
DTSTART;VALUE=DATE:20260214
DTEND;VALUE=DATE:20260215
DTSTAMP:20260423T120203
CREATED:20260220T222920Z
LAST-MODIFIED:20260220T222920Z
UID:38053-1771027200-1771113599@abdoathle.fr
SUMMARY:FSGT AG FSGT93
DESCRIPTION:
URL:https://abdoathle.fr/event/fsgt-ag-fsgt93/
CATEGORIES:FSGT
END:VEVENT
BEGIN:VEVENT
DTSTART;VALUE=DATE:20260208
DTEND;VALUE=DATE:20260209
DTSTAMP:20260423T120203
CREATED:20251031T221138Z
LAST-MODIFIED:20251203T202639Z
UID:37896-1770508800-1770595199@abdoathle.fr
SUMMARY:Deuxième tour Guimier enfants - Pantin Ladoumègue
DESCRIPTION:
URL:https://abdoathle.fr/event/deuxieme-tour-guimier-enfants-week-end-du-7-et-8-fevrier-2026-pantin-ladoumegue/
CATEGORIES:FSGT,FSGT - Salle
END:VEVENT
BEGIN:VEVENT
DTSTART;VALUE=DATE:20260131
DTEND;VALUE=DATE:20260201
DTSTAMP:20260423T120203
CREATED:20251104T224513Z
LAST-MODIFIED:20251104T224513Z
UID:37940-1769817600-1769903999@abdoathle.fr
SUMMARY:KID'ATHLE EA - TRIATHLON PO EN SALLE
DESCRIPTION:KID’ATHLE EA – TRIATHLON PO EN SALLE \n📆 Samedi 31 janvier 2026\n📍 Centre Sportif Jules Ladoumègue – 37 Rte des Petits Ponts\, 75019\, PARIS \n➡️ Groupe 1 10h00-13h00\n➡️ Groupe 2 14h00-17h00 \n Informations à venir
URL:https://abdoathle.fr/event/kidathle-ea-triathlon-po-en-salle-2/
CATEGORIES:FFA,FFA- Salle
END:VEVENT
BEGIN:VEVENT
DTSTART;VALUE=DATE:20260125
DTEND;VALUE=DATE:20260126
DTSTAMP:20260423T120203
CREATED:20251031T221103Z
LAST-MODIFIED:20251031T221411Z
UID:37894-1769299200-1769385599@abdoathle.fr
SUMMARY:Deuxième tour Guimier adultes - Pantin Ladoumègue
DESCRIPTION:
URL:https://abdoathle.fr/event/deuxieme-tour-guimier-adultes-dimanche-25-janvier-2026-pantin-ladoumegue/
CATEGORIES:FSGT,FSGT - Piste
END:VEVENT
BEGIN:VEVENT
DTSTART;VALUE=DATE:20260121
DTEND;VALUE=DATE:20260122
DTSTAMP:20260423T120203
CREATED:20251104T224419Z
LAST-MODIFIED:20251104T224419Z
UID:37938-1768953600-1769039999@abdoathle.fr
SUMMARY:MERCREDI D'AULNAY
DESCRIPTION:MERCREDI D’AULNAY \n📆 Mercredi 21 janvier 2026\n📍 Stade du Moulin Neuf – 6 avenue du Maréchal Juin\, 93600\, AULNAY-SOUS-BOIS \n➡️ de 14h00 à 15h30 EA-PO (50m – Longueur – Vortex)\n➡️ de 15h30 à 17h00 BE-MI (50m – Longueur – Poids)  \n Inscriptions sur place
URL:https://abdoathle.fr/event/mercredi-daulnay-3/
CATEGORIES:FFA,FFA - Piste
END:VEVENT
BEGIN:VEVENT
DTSTART;VALUE=DATE:20260118
DTEND;VALUE=DATE:20260119
DTSTAMP:20260423T120203
CREATED:20251031T221025Z
LAST-MODIFIED:20251031T221359Z
UID:37892-1768694400-1768780799@abdoathle.fr
SUMMARY:Cross régional - Stains
DESCRIPTION:
URL:https://abdoathle.fr/event/cross-regional-dimanche-18-janvier-2026-stains/
CATEGORIES:FSGT,FSGT - Cross
END:VEVENT
BEGIN:VEVENT
DTSTART;VALUE=DATE:20260111
DTEND;VALUE=DATE:20260112
DTSTAMP:20260423T120203
CREATED:20251104T224947Z
LAST-MODIFIED:20251104T224947Z
UID:37950-1768089600-1768175999@abdoathle.fr
SUMMARY:CHAMPIONNATS DÉPARTEMENTAUX DE CROSS-COUNTRY
DESCRIPTION:CHAMPIONNATS DÉPARTEMENTAUX DE CROSS-COUNTRY \n📆 Dimanche 11 janvier 2026\n📍 AULNAY-SOUS-BOIS \n Informations à venir
URL:https://abdoathle.fr/event/championnats-departementaux-de-cross-country-2/
CATEGORIES:FFA,FFA - Cross
END:VEVENT
BEGIN:VEVENT
DTSTART;TZID=Europe/Paris:20251221T090000
DTEND;TZID=Europe/Paris:20251221T130000
DTSTAMP:20260423T120203
CREATED:20251216T164630Z
LAST-MODIFIED:20251216T172257Z
UID:38004-1766307600-1766322000@abdoathle.fr
SUMMARY:Compétition lancers
DESCRIPTION:renseignements sur  \nhttps://idf.fsgt.org/calendriers-athletisme/
URL:https://abdoathle.fr/event/competition-lancers/
LOCATION:Saint-Denis (93)\, rue du 19 mars 1962\, SAINT DENIS\, France
CATEGORIES:FSGT,FSGT - Piste
END:VEVENT
BEGIN:VEVENT
DTSTART;VALUE=DATE:20251220
DTEND;VALUE=DATE:20251221
DTSTAMP:20260423T120203
CREATED:20251104T224314Z
LAST-MODIFIED:20251104T224314Z
UID:37936-1766188800-1766275199@abdoathle.fr
SUMMARY:KID'ATHLE EA - TRIATHLON PO EN SALLE
DESCRIPTION:KID’ATHLE EA – TRIATHLON PO EN SALLE \n📆 Samedi 20 décembre 2025\n📍 Centre Sportif Jules Ladoumègue – 37 Rte des Petits Ponts\, 75019\, PARIS \n➡️ Groupe 1 10h00-13h00\n➡️ Groupe 2 14h00-17h00 \n Informations à venir
URL:https://abdoathle.fr/event/kidathle-ea-triathlon-po-en-salle/
CATEGORIES:FFA,FFA- Salle
END:VEVENT
BEGIN:VEVENT
DTSTART;VALUE=DATE:20251217
DTEND;VALUE=DATE:20251218
DTSTAMP:20260423T120203
CREATED:20251104T224220Z
LAST-MODIFIED:20251104T224220Z
UID:37934-1765929600-1766015999@abdoathle.fr
SUMMARY:MERCREDI D'AULNAY
DESCRIPTION:MERCREDI D’AULNAY \n📆 Mercredi 17 décembre 2025\n📍 Stade du Moulin Neuf – 6 avenue du Maréchal Juin\, 93600\, AULNAY-SOUS-BOIS \n➡️ de 14h00 à 15h30 EA-PO (50m – Longueur – Vortex)\n➡️ de 15h30 à 17h00 BE-MI (50/80m – Longueur – Poids)  \n Inscriptions sur place
URL:https://abdoathle.fr/event/mercredi-daulnay-2/
CATEGORIES:FFA,FFA - Piste
END:VEVENT
BEGIN:VEVENT
DTSTART;VALUE=DATE:20251214
DTEND;VALUE=DATE:20251215
DTSTAMP:20260423T120203
CREATED:20251104T224147Z
LAST-MODIFIED:20251104T224147Z
UID:37932-1765670400-1765756799@abdoathle.fr
SUMMARY:CROSS DE CLICHY
DESCRIPTION:CROSS DE CLICHY \n📆 Dimanche 14 décembre 2025\n📍 CLICHY-SOUS-BOIS\n📌 Toutes catégories
URL:https://abdoathle.fr/event/cross-de-clichy/
CATEGORIES:FFA,FFA - Cross
END:VEVENT
BEGIN:VEVENT
DTSTART;VALUE=DATE:20251214
DTEND;VALUE=DATE:20251215
DTSTAMP:20260423T120203
CREATED:20251031T220822Z
LAST-MODIFIED:20251031T220822Z
UID:37890-1765670400-1765756799@abdoathle.fr
SUMMARY:Guimier Adultes
DESCRIPTION:
URL:https://abdoathle.fr/event/guimier-adultes-5/
CATEGORIES:FSGT,FSGT - Salle
END:VEVENT
BEGIN:VEVENT
DTSTART;VALUE=DATE:20251213
DTEND;VALUE=DATE:20251215
DTSTAMP:20260423T120203
CREATED:20251104T223520Z
LAST-MODIFIED:20251104T223520Z
UID:37916-1765584000-1765756799@abdoathle.fr
SUMMARY:CHAMPIONNATS DÉPARTEMENTAUX D'ÉPREUVES COMBINÉES EN SALLE 75\, 77\, 93\, 94 - CADETS À SENIORS
DESCRIPTION:CHAMPIONNATS DÉPARTEMENTAUX D’ÉPREUVES COMBINÉES EN SALLE 75\, 77\, 93\, 94 – CADETS À SENIORS \n📆 Samedi 13 décembre et Dimanche 14 décembre 2025\n📍 INSEP – 11 Avenue du Tremblay\, 75012\, PARIS \n Règlement & programme \n Ouverture des inscriptions (athlètes et juges) : 16 novembre 2025 sur le site athle.live\n Clôture des inscriptions le mercredi 10 décembre 2025 à 22h00 \n➡️ 1 juge par tranche de 3 athlètes\n➡️ Modalités d’accès à l’INSEP dans le document « Règlement & programme » \n___ \nEn parallèle des championnats\, se tiendra un Meeting Open en salle \n Règlement & programme \n Ouverture des inscriptions (athlètes et juges) : 16 novembre 2025 sur le site athle.live\n Clôture des inscriptions le mercredi 10 décembre 2025 à 22h00 \n➡️ Paiement en ligne à l’engagement : 6€ / épreuve\n➡️ Modalités d’accès à l’INSEP dans le document « Règlement & programme »
URL:https://abdoathle.fr/event/championnats-departementaux-depreuves-combinees-en-salle-75-77-93-94-cadets-a-seniors/
CATEGORIES:FFA,FFA- Salle
END:VEVENT
END:VCALENDAR