BEGIN:VCALENDAR
VERSION:2.0
PRODID:-//ABDO Athlétisme - ECPv6.15.20//NONSGML v1.0//EN
CALSCALE:GREGORIAN
METHOD:PUBLISH
X-WR-CALNAME:ABDO Athlétisme
X-ORIGINAL-URL:https://abdoathle.fr
X-WR-CALDESC:Évènements pour ABDO Athlétisme
REFRESH-INTERVAL;VALUE=DURATION:PT1H
X-Robots-Tag:noindex
X-PUBLISHED-TTL:PT1H
BEGIN:VTIMEZONE
TZID:Europe/Paris
BEGIN:DAYLIGHT
TZOFFSETFROM:+0100
TZOFFSETTO:+0200
TZNAME:CEST
DTSTART:20250330T010000
END:DAYLIGHT
BEGIN:STANDARD
TZOFFSETFROM:+0200
TZOFFSETTO:+0100
TZNAME:CET
DTSTART:20251026T010000
END:STANDARD
BEGIN:DAYLIGHT
TZOFFSETFROM:+0100
TZOFFSETTO:+0200
TZNAME:CEST
DTSTART:20260329T010000
END:DAYLIGHT
BEGIN:STANDARD
TZOFFSETFROM:+0200
TZOFFSETTO:+0100
TZNAME:CET
DTSTART:20261025T010000
END:STANDARD
BEGIN:DAYLIGHT
TZOFFSETFROM:+0100
TZOFFSETTO:+0200
TZNAME:CEST
DTSTART:20270328T010000
END:DAYLIGHT
BEGIN:STANDARD
TZOFFSETFROM:+0200
TZOFFSETTO:+0100
TZNAME:CET
DTSTART:20271031T010000
END:STANDARD
END:VTIMEZONE
BEGIN:VEVENT
DTSTART;VALUE=DATE:20260527
DTEND;VALUE=DATE:20260528
DTSTAMP:20260423T161805
CREATED:20260422T193034Z
LAST-MODIFIED:20260422T193034Z
UID:38108-1779840000-1779926399@abdoathle.fr
SUMMARY:FFA Champ IDF de Relais
DESCRIPTION:Epinay sur Seine
URL:https://abdoathle.fr/event/ffa-champ-idf-de-relais/
CATEGORIES:FFA,FFA - Piste
END:VEVENT
BEGIN:VEVENT
DTSTART;VALUE=DATE:20260527
DTEND;VALUE=DATE:20260528
DTSTAMP:20260423T161805
CREATED:20260422T193530Z
LAST-MODIFIED:20260422T193530Z
UID:38113-1779840000-1779926399@abdoathle.fr
SUMMARY:FFA Champ Depart de Steeple\, \, 3000m et 5000m 93-94
DESCRIPTION:Saint Maur
URL:https://abdoathle.fr/event/ffa-champ-depart-de-steeple-3000m-et-5000m-93-94/
CATEGORIES:FFA,FFA - Piste
END:VEVENT
BEGIN:VEVENT
DTSTART;VALUE=DATE:20260529
DTEND;VALUE=DATE:20260530
DTSTAMP:20260423T161805
CREATED:20260220T215737Z
LAST-MODIFIED:20260220T215737Z
UID:38031-1780012800-1780099199@abdoathle.fr
SUMMARY:FSGT Gala des Pratiques Partagées
DESCRIPTION:Théâtre du Garde-Chasse\, Les Lilas
URL:https://abdoathle.fr/event/fsgt-gala-des-pratiques-partagees/
CATEGORIES:FSGT
END:VEVENT
BEGIN:VEVENT
DTSTART;VALUE=DATE:20260529
DTEND;VALUE=DATE:20260530
DTSTAMP:20260423T161805
CREATED:20260422T194122Z
LAST-MODIFIED:20260422T194122Z
UID:38115-1780012800-1780099199@abdoathle.fr
SUMMARY:FFA Meeting de Noisy Le Grand
DESCRIPTION:
URL:https://abdoathle.fr/event/ffa-meeting-de-noisy-le-grand/
CATEGORIES:FFA,FFA - Piste
END:VEVENT
BEGIN:VEVENT
DTSTART;VALUE=DATE:20260531
DTEND;VALUE=DATE:20260601
DTSTAMP:20260423T161805
CREATED:20251104T232612Z
LAST-MODIFIED:20260211T094909Z
UID:37977-1780185600-1780271999@abdoathle.fr
SUMMARY:FSGT Champ Régional Enfants
DESCRIPTION:dimanche 31 mai 2026 Piste Championnat Régional Enfants ?
URL:https://abdoathle.fr/event/championnat-regional-enfants-4/
CATEGORIES:FSGT - Piste
END:VEVENT
BEGIN:VEVENT
DTSTART;VALUE=DATE:20260531
DTEND;VALUE=DATE:20260601
DTSTAMP:20260423T161805
CREATED:20260422T194256Z
LAST-MODIFIED:20260422T194256Z
UID:38117-1780185600-1780271999@abdoathle.fr
SUMMARY:FFA Champ 93 de Triathlon et individuels Be-Mi
DESCRIPTION:Aulnay Sous Bois
URL:https://abdoathle.fr/event/ffa-champ-93-de-triathlon-et-individuels-be-mi/
CATEGORIES:FFA,FFA - Piste
END:VEVENT
BEGIN:VEVENT
DTSTART;VALUE=DATE:20260531
DTEND;VALUE=DATE:20260601
DTSTAMP:20260423T161805
CREATED:20260422T194413Z
LAST-MODIFIED:20260422T194413Z
UID:38119-1780185600-1780271999@abdoathle.fr
SUMMARY:FFA Foulées de Noisy Le Grand
DESCRIPTION:
URL:https://abdoathle.fr/event/ffa-foulees-de-noisy-le-grand/
CATEGORIES:FFA,FFA - Route
END:VEVENT
BEGIN:VEVENT
DTSTART;VALUE=DATE:20260531
DTEND;VALUE=DATE:20260601
DTSTAMP:20260423T161805
CREATED:20260422T194458Z
LAST-MODIFIED:20260422T194458Z
UID:38121-1780185600-1780271999@abdoathle.fr
SUMMARY:FFA 46E Foulées Pantinoises
DESCRIPTION:
URL:https://abdoathle.fr/event/ffa-46e-foulees-pantinoises/
CATEGORIES:FFA,FFA - Route
END:VEVENT
BEGIN:VEVENT
DTSTART;VALUE=DATE:20260606
DTEND;VALUE=DATE:20260607
DTSTAMP:20260423T161805
CREATED:20260422T194542Z
LAST-MODIFIED:20260422T194542Z
UID:38123-1780704000-1780790399@abdoathle.fr
SUMMARY:FFA Meeting Saint Denis Emotion
DESCRIPTION:
URL:https://abdoathle.fr/event/ffa-meeting-saint-denis-emotion-2/
CATEGORIES:FFA,FFA - Piste
END:VEVENT
BEGIN:VEVENT
DTSTART;VALUE=DATE:20260606
DTEND;VALUE=DATE:20260608
DTSTAMP:20260423T161805
CREATED:20260422T194707Z
LAST-MODIFIED:20260422T194707Z
UID:38125-1780704000-1780876799@abdoathle.fr
SUMMARY:FFA Champ IDF Ep Combinées Ca a Se + Be-Mi
DESCRIPTION:Cormeilles en Parisis
URL:https://abdoathle.fr/event/ffa-champ-idf-ep-combinees-ca-a-se-be-mi/
CATEGORIES:FFA,FFA - Piste
END:VEVENT
BEGIN:VEVENT
DTSTART;VALUE=DATE:20260607
DTEND;VALUE=DATE:20260608
DTSTAMP:20260423T161805
CREATED:20251104T232653Z
LAST-MODIFIED:20260211T094855Z
UID:37979-1780790400-1780876799@abdoathle.fr
SUMMARY:FSGT Champ Rég Jeunes et adultes
DESCRIPTION:dimanche 7 juin 2026 Piste Championnat Régional Jeunes et adultes Saint-Ouen
URL:https://abdoathle.fr/event/championnat-regional-jeunes-et-adultes/
CATEGORIES:FSGT - Piste
END:VEVENT
BEGIN:VEVENT
DTSTART;VALUE=DATE:20260607
DTEND;VALUE=DATE:20260608
DTSTAMP:20260423T161805
CREATED:20260422T194759Z
LAST-MODIFIED:20260422T194759Z
UID:38127-1780790400-1780876799@abdoathle.fr
SUMMARY:FFA Meeting de l'Est Parisien
DESCRIPTION:Clichy Sous Bois
URL:https://abdoathle.fr/event/ffa-meeting-de-lest-parisien/
CATEGORIES:FFA,FFA - Piste
END:VEVENT
BEGIN:VEVENT
DTSTART;VALUE=DATE:20260610
DTEND;VALUE=DATE:20260611
DTSTAMP:20260423T161805
CREATED:20260422T194957Z
LAST-MODIFIED:20260422T194957Z
UID:38129-1781049600-1781135999@abdoathle.fr
SUMMARY:FFA Les mercredis de Bondy
DESCRIPTION:
URL:https://abdoathle.fr/event/ffa-les-mercredis-de-bondy-2/
CATEGORIES:FFA,FFA - Piste
END:VEVENT
BEGIN:VEVENT
DTSTART;VALUE=DATE:20260610
DTEND;VALUE=DATE:20260611
DTSTAMP:20260423T161805
CREATED:20260422T195244Z
LAST-MODIFIED:20260422T195244Z
UID:38131-1781049600-1781135999@abdoathle.fr
SUMMARY:FFA Soirée en Piste Clichy Sous Bois
DESCRIPTION:
URL:https://abdoathle.fr/event/ffa-soiree-en-piste-clichy-sous-bois/
CATEGORIES:FFA,FFA - Piste
END:VEVENT
BEGIN:VEVENT
DTSTART;VALUE=DATE:20260611
DTEND;VALUE=DATE:20260612
DTSTAMP:20260423T161805
CREATED:20251104T232753Z
LAST-MODIFIED:20260211T094834Z
UID:37981-1781136000-1781222399@abdoathle.fr
SUMMARY:FSGT Ourcq'eee Run / 10 K du Canal
DESCRIPTION:jeudi 11 juin 2026 Route Ourcq’eee Run / 10 K du Canal TC Bobigny
URL:https://abdoathle.fr/event/ourcqeee-run-10-k-du-canal/
CATEGORIES:FSGT - TRAIL
END:VEVENT
BEGIN:VEVENT
DTSTART;VALUE=DATE:20260613
DTEND;VALUE=DATE:20260615
DTSTAMP:20260423T161805
CREATED:20260422T195356Z
LAST-MODIFIED:20260422T195356Z
UID:38133-1781308800-1781481599@abdoathle.fr
SUMMARY:FFA Champ de France Masters
DESCRIPTION:Epinal
URL:https://abdoathle.fr/event/ffa-champ-de-france-masters/
CATEGORIES:FFA,FFA - Piste
END:VEVENT
BEGIN:VEVENT
DTSTART;VALUE=DATE:20260613
DTEND;VALUE=DATE:20260615
DTSTAMP:20260423T161805
CREATED:20260422T195524Z
LAST-MODIFIED:20260422T195524Z
UID:38135-1781308800-1781481599@abdoathle.fr
SUMMARY:FFA Champ IDF Espoirs - Régionaux Séniors
DESCRIPTION:Maisons Alfort
URL:https://abdoathle.fr/event/ffa-champ-idf-espoirs-regionaux-seniors/
CATEGORIES:FFA,FFA - Piste
END:VEVENT
BEGIN:VEVENT
DTSTART;VALUE=DATE:20260614
DTEND;VALUE=DATE:20260615
DTSTAMP:20260423T161805
CREATED:20251104T232843Z
LAST-MODIFIED:20260220T214908Z
UID:37983-1781395200-1781481599@abdoathle.fr
SUMMARY:FSGT Piste Finale Rousseau Enfants
DESCRIPTION:dimanche 14 juin 2026 Piste Finale du Rousseau Enfants Saint-Denis
URL:https://abdoathle.fr/event/finale-du-rousseau-enfants/
CATEGORIES:FSGT,FSGT - Piste
END:VEVENT
BEGIN:VEVENT
DTSTART;VALUE=DATE:20260614
DTEND;VALUE=DATE:20260615
DTSTAMP:20260423T161805
CREATED:20260422T195615Z
LAST-MODIFIED:20260422T195615Z
UID:38137-1781395200-1781481599@abdoathle.fr
SUMMARY:FFA Champ IDF Triathlon Be-Mi
DESCRIPTION:
URL:https://abdoathle.fr/event/ffa-champ-idf-triathlon-be-mi/
CATEGORIES:FFA,FFA - Piste
END:VEVENT
BEGIN:VEVENT
DTSTART;VALUE=DATE:20260617
DTEND;VALUE=DATE:20260618
DTSTAMP:20260423T161805
CREATED:20260422T195811Z
LAST-MODIFIED:20260422T195811Z
UID:38139-1781654400-1781740799@abdoathle.fr
SUMMARY:FFA Meeting Premium de Montreuil
DESCRIPTION:
URL:https://abdoathle.fr/event/ffa-meeting-premium-de-montreuil/
CATEGORIES:FFA,FFA - Piste
END:VEVENT
BEGIN:VEVENT
DTSTART;VALUE=DATE:20260617
DTEND;VALUE=DATE:20260618
DTSTAMP:20260423T161805
CREATED:20260422T195849Z
LAST-MODIFIED:20260422T195849Z
UID:38141-1781654400-1781740799@abdoathle.fr
SUMMARY:FFA Les Mercredis d'Aulnay
DESCRIPTION:
URL:https://abdoathle.fr/event/ffa-les-mercredis-daulnay/
CATEGORIES:FFA,FFA - Piste
END:VEVENT
BEGIN:VEVENT
DTSTART;VALUE=DATE:20260617
DTEND;VALUE=DATE:20260618
DTSTAMP:20260423T161805
CREATED:20260422T200000Z
LAST-MODIFIED:20260422T200000Z
UID:38143-1781654400-1781740799@abdoathle.fr
SUMMARY:FFA Soirée en piste Clichy Sous Bois
DESCRIPTION:
URL:https://abdoathle.fr/event/ffa-soiree-en-piste-clichy-sous-bois-2/
CATEGORIES:FFA,FFA - Piste
END:VEVENT
BEGIN:VEVENT
DTSTART;VALUE=DATE:20260620
DTEND;VALUE=DATE:20260622
DTSTAMP:20260423T161805
CREATED:20260422T200213Z
LAST-MODIFIED:20260422T200213Z
UID:38145-1781913600-1782086399@abdoathle.fr
SUMMARY:FFA Champ Régionaux Cadets Juniors
DESCRIPTION:Guyancourt
URL:https://abdoathle.fr/event/ffa-champ-regionaux-cadets-juniors/
CATEGORIES:FFA,FFA - Piste
END:VEVENT
BEGIN:VEVENT
DTSTART;VALUE=DATE:20260621
DTEND;VALUE=DATE:20260622
DTSTAMP:20260423T161805
CREATED:20260422T200301Z
LAST-MODIFIED:20260422T200301Z
UID:38147-1782000000-1782086399@abdoathle.fr
SUMMARY:FFA Champ IDF Minimes
DESCRIPTION:Aulnay Sous Bois
URL:https://abdoathle.fr/event/ffa-champ-idf-minimes/
CATEGORIES:FFA,FFA - Piste
END:VEVENT
BEGIN:VEVENT
DTSTART;VALUE=DATE:20260624
DTEND;VALUE=DATE:20260625
DTSTAMP:20260423T161805
CREATED:20260422T200841Z
LAST-MODIFIED:20260422T200841Z
UID:38154-1782259200-1782345599@abdoathle.fr
SUMMARY:FFA Soirée en Piste Clichy Sous Bois
DESCRIPTION:
URL:https://abdoathle.fr/event/ffa-soiree-en-piste-clichy-sous-bois-3/
CATEGORIES:FFA,FFA - Piste
END:VEVENT
BEGIN:VEVENT
DTSTART;VALUE=DATE:20260624
DTEND;VALUE=DATE:20260625
DTSTAMP:20260423T161805
CREATED:20260422T200558Z
LAST-MODIFIED:20260422T200627Z
UID:38149-1782259200-1782345599@abdoathle.fr
SUMMARY:FFA Champ IDF de Demi Fond Long
DESCRIPTION:Saint Maur
URL:https://abdoathle.fr/event/ffa-champ-idf-de-demin-fond-long/
CATEGORIES:FFA,FFA - Piste
END:VEVENT
BEGIN:VEVENT
DTSTART;VALUE=DATE:20260624
DTEND;VALUE=DATE:20260625
DTSTAMP:20260423T161805
CREATED:20260422T200719Z
LAST-MODIFIED:20260422T200719Z
UID:38152-1782259200-1782345599@abdoathle.fr
SUMMARY:FFA Meeting Saint Denis Emotion
DESCRIPTION:
URL:https://abdoathle.fr/event/ffa-meeting-saint-denis-emotion-3/
CATEGORIES:FFA,FFA - Piste
END:VEVENT
BEGIN:VEVENT
DTSTART;VALUE=DATE:20260626
DTEND;VALUE=DATE:20260628
DTSTAMP:20260423T161805
CREATED:20260422T201036Z
LAST-MODIFIED:20260422T201036Z
UID:38157-1782432000-1782604799@abdoathle.fr
SUMMARY:FFA Champ IDF Elite
DESCRIPTION:Montreuil
URL:https://abdoathle.fr/event/ffa-champ-idf-elite/
CATEGORIES:FFA,FFA - Piste
END:VEVENT
BEGIN:VEVENT
DTSTART;VALUE=DATE:20260627
DTEND;VALUE=DATE:20260629
DTSTAMP:20260423T161805
CREATED:20260422T190027Z
LAST-MODIFIED:20260422T190027Z
UID:38069-1782518400-1782691199@abdoathle.fr
SUMMARY:FSGT Championnats de France Jeunes et Adultes
DESCRIPTION:Saint Denis 
URL:https://abdoathle.fr/event/fsgt-championnats-de-france-jeunes-et-adultes/
CATEGORIES:FSGT,FSGT - Piste
END:VEVENT
BEGIN:VEVENT
DTSTART;VALUE=DATE:20260627
DTEND;VALUE=DATE:20260629
DTSTAMP:20260423T161805
CREATED:20260422T201153Z
LAST-MODIFIED:20260422T201153Z
UID:38160-1782518400-1782691199@abdoathle.fr
SUMMARY:FFA Champ France Masters Ep Combinées et Marche
DESCRIPTION:Chateauroux
URL:https://abdoathle.fr/event/ffa-champ-france-masters-ep-combinees-et-marche/
CATEGORIES:FFA,FFA - Piste
END:VEVENT
END:VCALENDAR