BEGIN:VCALENDAR
VERSION:2.0
PRODID:-//ABDO Athlétisme - ECPv6.15.20//NONSGML v1.0//EN
CALSCALE:GREGORIAN
METHOD:PUBLISH
X-WR-CALNAME:ABDO Athlétisme
X-ORIGINAL-URL:https://abdoathle.fr
X-WR-CALDESC:Évènements pour ABDO Athlétisme
REFRESH-INTERVAL;VALUE=DURATION:PT1H
X-Robots-Tag:noindex
X-PUBLISHED-TTL:PT1H
BEGIN:VTIMEZONE
TZID:Europe/Paris
BEGIN:DAYLIGHT
TZOFFSETFROM:+0100
TZOFFSETTO:+0200
TZNAME:CEST
DTSTART:20240331T010000
END:DAYLIGHT
BEGIN:STANDARD
TZOFFSETFROM:+0200
TZOFFSETTO:+0100
TZNAME:CET
DTSTART:20241027T010000
END:STANDARD
BEGIN:DAYLIGHT
TZOFFSETFROM:+0100
TZOFFSETTO:+0200
TZNAME:CEST
DTSTART:20250330T010000
END:DAYLIGHT
BEGIN:STANDARD
TZOFFSETFROM:+0200
TZOFFSETTO:+0100
TZNAME:CET
DTSTART:20251026T010000
END:STANDARD
BEGIN:DAYLIGHT
TZOFFSETFROM:+0100
TZOFFSETTO:+0200
TZNAME:CEST
DTSTART:20260329T010000
END:DAYLIGHT
BEGIN:STANDARD
TZOFFSETFROM:+0200
TZOFFSETTO:+0100
TZNAME:CET
DTSTART:20261025T010000
END:STANDARD
END:VTIMEZONE
BEGIN:VEVENT
DTSTART;VALUE=DATE:20250503
DTEND;VALUE=DATE:20250504
DTSTAMP:20260422T130724
CREATED:20250323T164118Z
LAST-MODIFIED:20250323T164118Z
UID:37801-1746230400-1746316799@abdoathle.fr
SUMMARY:Quadrathlon Enfants
DESCRIPTION:
URL:https://abdoathle.fr/event/quadrathlon-enfants-2/
CATEGORIES:FSGT,FSGT - Piste
END:VEVENT
BEGIN:VEVENT
DTSTART;VALUE=DATE:20250504
DTEND;VALUE=DATE:20250505
DTSTAMP:20260422T130724
CREATED:20241102T173410Z
LAST-MODIFIED:20241102T173410Z
UID:37782-1746316800-1746403199@abdoathle.fr
SUMMARY:Championnat Départemental Adultes
DESCRIPTION:
URL:https://abdoathle.fr/event/championnat-departemental-adultes/
CATEGORIES:FSGT,FSGT - Piste
END:VEVENT
BEGIN:VEVENT
DTSTART;VALUE=DATE:20250511
DTEND;VALUE=DATE:20250512
DTSTAMP:20260422T130724
CREATED:20241102T173508Z
LAST-MODIFIED:20250323T164533Z
UID:37784-1746921600-1747007999@abdoathle.fr
SUMMARY:2eme Tour Rousseau (enfants)
DESCRIPTION:Aubervilliers
URL:https://abdoathle.fr/event/2eme-tour-rousseau-enfants/
CATEGORIES:FSGT,FSGT - Piste
END:VEVENT
BEGIN:VEVENT
DTSTART;VALUE=DATE:20250514
DTEND;VALUE=DATE:20250515
DTSTAMP:20260422T130724
CREATED:20250323T164627Z
LAST-MODIFIED:20250323T164627Z
UID:37805-1747180800-1747267199@abdoathle.fr
SUMMARY:Meeting Panel
DESCRIPTION:Aubervilliers
URL:https://abdoathle.fr/event/meeting-panel/
CATEGORIES:FSGT,FSGT - Piste
END:VEVENT
BEGIN:VEVENT
DTSTART;VALUE=DATE:20250518
DTEND;VALUE=DATE:20250519
DTSTAMP:20260422T130724
CREATED:20250323T164702Z
LAST-MODIFIED:20250323T165726Z
UID:37809-1747526400-1747612799@abdoathle.fr
SUMMARY:Delaune 2\,0
DESCRIPTION:Vitry Sur Seine
URL:https://abdoathle.fr/event/delaune-20/
CATEGORIES:FSGT,FSGT - Piste
END:VEVENT
BEGIN:VEVENT
DTSTART;VALUE=DATE:20250531
DTEND;VALUE=DATE:20250601
DTSTAMP:20260422T130724
CREATED:20250323T164838Z
LAST-MODIFIED:20250323T164838Z
UID:37811-1748649600-1748735999@abdoathle.fr
SUMMARY:Championnat Régional
DESCRIPTION:Gennevilliers
URL:https://abdoathle.fr/event/championnat-regional/
CATEGORIES:FSGT,FSGT - Piste
END:VEVENT
END:VCALENDAR