BEGIN:VCALENDAR
VERSION:2.0
PRODID:-//ABDO Athlétisme - ECPv6.15.20//NONSGML v1.0//EN
CALSCALE:GREGORIAN
METHOD:PUBLISH
X-ORIGINAL-URL:https://abdoathle.fr
X-WR-CALDESC:Évènements pour ABDO Athlétisme
REFRESH-INTERVAL;VALUE=DURATION:PT1H
X-Robots-Tag:noindex
X-PUBLISHED-TTL:PT1H
BEGIN:VTIMEZONE
TZID:Europe/Paris
BEGIN:DAYLIGHT
TZOFFSETFROM:+0100
TZOFFSETTO:+0200
TZNAME:CEST
DTSTART:20250330T010000
END:DAYLIGHT
BEGIN:STANDARD
TZOFFSETFROM:+0200
TZOFFSETTO:+0100
TZNAME:CET
DTSTART:20251026T010000
END:STANDARD
BEGIN:DAYLIGHT
TZOFFSETFROM:+0100
TZOFFSETTO:+0200
TZNAME:CEST
DTSTART:20260329T010000
END:DAYLIGHT
BEGIN:STANDARD
TZOFFSETFROM:+0200
TZOFFSETTO:+0100
TZNAME:CET
DTSTART:20261025T010000
END:STANDARD
BEGIN:DAYLIGHT
TZOFFSETFROM:+0100
TZOFFSETTO:+0200
TZNAME:CEST
DTSTART:20270328T010000
END:DAYLIGHT
BEGIN:STANDARD
TZOFFSETFROM:+0200
TZOFFSETTO:+0100
TZNAME:CET
DTSTART:20271031T010000
END:STANDARD
END:VTIMEZONE
BEGIN:VEVENT
DTSTART;VALUE=DATE:20260111
DTEND;VALUE=DATE:20260112
DTSTAMP:20260423T122849
CREATED:20251104T224947Z
LAST-MODIFIED:20251104T224947Z
UID:37950-1768089600-1768175999@abdoathle.fr
SUMMARY:CHAMPIONNATS DÉPARTEMENTAUX DE CROSS-COUNTRY
DESCRIPTION:CHAMPIONNATS DÉPARTEMENTAUX DE CROSS-COUNTRY \n📆 Dimanche 11 janvier 2026\n📍 AULNAY-SOUS-BOIS \n Informations à venir
URL:https://abdoathle.fr/event/championnats-departementaux-de-cross-country-2/
CATEGORIES:FFA,FFA - Cross
END:VEVENT
BEGIN:VEVENT
DTSTART;VALUE=DATE:20260118
DTEND;VALUE=DATE:20260119
DTSTAMP:20260423T122849
CREATED:20251031T221025Z
LAST-MODIFIED:20251031T221359Z
UID:37892-1768694400-1768780799@abdoathle.fr
SUMMARY:Cross régional - Stains
DESCRIPTION:
URL:https://abdoathle.fr/event/cross-regional-dimanche-18-janvier-2026-stains/
CATEGORIES:FSGT,FSGT - Cross
END:VEVENT
BEGIN:VEVENT
DTSTART;VALUE=DATE:20260121
DTEND;VALUE=DATE:20260122
DTSTAMP:20260423T122849
CREATED:20251104T224419Z
LAST-MODIFIED:20251104T224419Z
UID:37938-1768953600-1769039999@abdoathle.fr
SUMMARY:MERCREDI D'AULNAY
DESCRIPTION:MERCREDI D’AULNAY \n📆 Mercredi 21 janvier 2026\n📍 Stade du Moulin Neuf – 6 avenue du Maréchal Juin\, 93600\, AULNAY-SOUS-BOIS \n➡️ de 14h00 à 15h30 EA-PO (50m – Longueur – Vortex)\n➡️ de 15h30 à 17h00 BE-MI (50m – Longueur – Poids)  \n Inscriptions sur place
URL:https://abdoathle.fr/event/mercredi-daulnay-3/
CATEGORIES:FFA,FFA - Piste
END:VEVENT
BEGIN:VEVENT
DTSTART;VALUE=DATE:20260125
DTEND;VALUE=DATE:20260126
DTSTAMP:20260423T122849
CREATED:20251031T221103Z
LAST-MODIFIED:20251031T221411Z
UID:37894-1769299200-1769385599@abdoathle.fr
SUMMARY:Deuxième tour Guimier adultes - Pantin Ladoumègue
DESCRIPTION:
URL:https://abdoathle.fr/event/deuxieme-tour-guimier-adultes-dimanche-25-janvier-2026-pantin-ladoumegue/
CATEGORIES:FSGT,FSGT - Piste
END:VEVENT
BEGIN:VEVENT
DTSTART;VALUE=DATE:20260131
DTEND;VALUE=DATE:20260201
DTSTAMP:20260423T122849
CREATED:20251104T224513Z
LAST-MODIFIED:20251104T224513Z
UID:37940-1769817600-1769903999@abdoathle.fr
SUMMARY:KID'ATHLE EA - TRIATHLON PO EN SALLE
DESCRIPTION:KID’ATHLE EA – TRIATHLON PO EN SALLE \n📆 Samedi 31 janvier 2026\n📍 Centre Sportif Jules Ladoumègue – 37 Rte des Petits Ponts\, 75019\, PARIS \n➡️ Groupe 1 10h00-13h00\n➡️ Groupe 2 14h00-17h00 \n Informations à venir
URL:https://abdoathle.fr/event/kidathle-ea-triathlon-po-en-salle-2/
CATEGORIES:FFA,FFA- Salle
END:VEVENT
END:VCALENDAR