BEGIN:VCALENDAR
VERSION:2.0
PRODID:-//ABDO Athlétisme - ECPv6.15.20//NONSGML v1.0//EN
CALSCALE:GREGORIAN
METHOD:PUBLISH
X-ORIGINAL-URL:https://abdoathle.fr
X-WR-CALDESC:Évènements pour ABDO Athlétisme
REFRESH-INTERVAL;VALUE=DURATION:PT1H
X-Robots-Tag:noindex
X-PUBLISHED-TTL:PT1H
BEGIN:VTIMEZONE
TZID:Europe/Paris
BEGIN:DAYLIGHT
TZOFFSETFROM:+0100
TZOFFSETTO:+0200
TZNAME:CEST
DTSTART:20250330T010000
END:DAYLIGHT
BEGIN:STANDARD
TZOFFSETFROM:+0200
TZOFFSETTO:+0100
TZNAME:CET
DTSTART:20251026T010000
END:STANDARD
BEGIN:DAYLIGHT
TZOFFSETFROM:+0100
TZOFFSETTO:+0200
TZNAME:CEST
DTSTART:20260329T010000
END:DAYLIGHT
BEGIN:STANDARD
TZOFFSETFROM:+0200
TZOFFSETTO:+0100
TZNAME:CET
DTSTART:20261025T010000
END:STANDARD
BEGIN:DAYLIGHT
TZOFFSETFROM:+0100
TZOFFSETTO:+0200
TZNAME:CEST
DTSTART:20270328T010000
END:DAYLIGHT
BEGIN:STANDARD
TZOFFSETFROM:+0200
TZOFFSETTO:+0100
TZNAME:CET
DTSTART:20271031T010000
END:STANDARD
END:VTIMEZONE
BEGIN:VEVENT
DTSTART;VALUE=DATE:20260501
DTEND;VALUE=DATE:20260502
DTSTAMP:20260423T120151
CREATED:20260422T191224Z
LAST-MODIFIED:20260422T191224Z
UID:38085-1777593600-1777679999@abdoathle.fr
SUMMARY:FERIE Stade Fermé
DESCRIPTION:
URL:https://abdoathle.fr/event/ferie-stade-ferme/
CATEGORIES:Vie du Club
END:VEVENT
BEGIN:VEVENT
DTSTART;VALUE=DATE:20260502
DTEND;VALUE=DATE:20260503
DTSTAMP:20260423T120151
CREATED:20260422T190332Z
LAST-MODIFIED:20260422T190332Z
UID:38071-1777680000-1777766399@abdoathle.fr
SUMMARY:FFA Champ Depart Interclubs 75-93
DESCRIPTION:St Denis
URL:https://abdoathle.fr/event/ffa-champ-depart-interclubs-75-93/
CATEGORIES:FFA,FFA - Piste
END:VEVENT
BEGIN:VEVENT
DTSTART;VALUE=DATE:20260502
DTEND;VALUE=DATE:20260504
DTSTAMP:20260423T120151
CREATED:20260422T190427Z
LAST-MODIFIED:20260422T190427Z
UID:38073-1777680000-1777852799@abdoathle.fr
SUMMARY:FFA Champ Interclubs LIFA
DESCRIPTION:?
URL:https://abdoathle.fr/event/ffa-champ-interclubs-lifa/
CATEGORIES:FFA,FFA - Piste
END:VEVENT
BEGIN:VEVENT
DTSTART;VALUE=DATE:20260503
DTEND;VALUE=DATE:20260504
DTSTAMP:20260423T120151
CREATED:20260422T190518Z
LAST-MODIFIED:20260422T190518Z
UID:38075-1777766400-1777852799@abdoathle.fr
SUMMARY:FFA Champ IDF de Trail Court
DESCRIPTION:
URL:https://abdoathle.fr/event/ffa-champ-idf-de-trail-court/
CATEGORIES:FFA,FFA - Route
END:VEVENT
BEGIN:VEVENT
DTSTART;VALUE=DATE:20260506
DTEND;VALUE=DATE:20260507
DTSTAMP:20260423T120151
CREATED:20260422T185709Z
LAST-MODIFIED:20260422T185709Z
UID:38067-1778025600-1778111999@abdoathle.fr
SUMMARY:FSGT Meeting Panel
DESCRIPTION:Jeunes et Adultes \nEn soirée \nAubervilliers
URL:https://abdoathle.fr/event/fsgt-meeting-panel/
CATEGORIES:FSGT,FSGT - Piste
END:VEVENT
BEGIN:VEVENT
DTSTART;VALUE=DATE:20260508
DTEND;VALUE=DATE:20260509
DTSTAMP:20260423T120151
CREATED:20260422T191253Z
LAST-MODIFIED:20260422T191253Z
UID:38087-1778198400-1778284799@abdoathle.fr
SUMMARY:FERIE Stade Fermé
DESCRIPTION:
URL:https://abdoathle.fr/event/ferie-stade-ferme-2/
CATEGORIES:Vie du Club
END:VEVENT
BEGIN:VEVENT
DTSTART;VALUE=DATE:20260509
DTEND;VALUE=DATE:20260510
DTSTAMP:20260423T120151
CREATED:20251203T202823Z
LAST-MODIFIED:20260211T095134Z
UID:37999-1778284800-1778371199@abdoathle.fr
SUMMARY:FSGT 2è tour Rousseau (Enfants)
DESCRIPTION:Le 2 ème tour Rousseau sera le 9 mai a Noisy
URL:https://abdoathle.fr/event/2-eme-tour-rousseau/
CATEGORIES:FSGT,FSGT - Piste
END:VEVENT
BEGIN:VEVENT
DTSTART;VALUE=DATE:20260509
DTEND;VALUE=DATE:20260510
DTSTAMP:20260423T120151
CREATED:20260422T190615Z
LAST-MODIFIED:20260422T190615Z
UID:38077-1778284800-1778371199@abdoathle.fr
SUMMARY:FFA Champ 93 de relais BE-MI
DESCRIPTION:Noisy Le Grand
URL:https://abdoathle.fr/event/ffa-champ-93-de-relais-be-mi/
CATEGORIES:FFA,FFA - Piste
END:VEVENT
BEGIN:VEVENT
DTSTART;VALUE=DATE:20260509
DTEND;VALUE=DATE:20260511
DTSTAMP:20260423T120151
CREATED:20260422T190732Z
LAST-MODIFIED:20260422T190732Z
UID:38079-1778284800-1778457599@abdoathle.fr
SUMMARY:FFA Champ 93 d'Epreuves Combinées
DESCRIPTION:CA à SE \nBE-MI \nNoisy Le Grand
URL:https://abdoathle.fr/event/ffa-champ-93-depreuves-combinees/
CATEGORIES:FFA,FFA - Piste
END:VEVENT
BEGIN:VEVENT
DTSTART;VALUE=DATE:20260510
DTEND;VALUE=DATE:20260511
DTSTAMP:20260423T120151
CREATED:20260422T190816Z
LAST-MODIFIED:20260422T190816Z
UID:38081-1778371200-1778457599@abdoathle.fr
SUMMARY:FFA La Foulée Montreuilloise
DESCRIPTION:
URL:https://abdoathle.fr/event/ffa-la-foulee-montreuilloise/
CATEGORIES:FFA,FFA - Route
END:VEVENT
BEGIN:VEVENT
DTSTART;VALUE=DATE:20260513
DTEND;VALUE=DATE:20260514
DTSTAMP:20260423T120151
CREATED:20260422T190910Z
LAST-MODIFIED:20260422T191115Z
UID:38083-1778630400-1778716799@abdoathle.fr
SUMMARY:FFA Les Mercredi d'Aulnay
DESCRIPTION:
URL:https://abdoathle.fr/event/ffa-les-mercredi-daulnay/
CATEGORIES:FFA,FFA - Piste
END:VEVENT
BEGIN:VEVENT
DTSTART;VALUE=DATE:20260514
DTEND;VALUE=DATE:20260515
DTSTAMP:20260423T120151
CREATED:20260422T191544Z
LAST-MODIFIED:20260422T191544Z
UID:38089-1778716800-1778803199@abdoathle.fr
SUMMARY:FFA Les Foulées Pierrefittoises
DESCRIPTION:
URL:https://abdoathle.fr/event/ffa-les-foulees-pierrefittoises/
CATEGORIES:FFA,FFA - Route
END:VEVENT
BEGIN:VEVENT
DTSTART;VALUE=DATE:20260516
DTEND;VALUE=DATE:20260518
DTSTAMP:20260423T120151
CREATED:20260422T192332Z
LAST-MODIFIED:20260422T192332Z
UID:38091-1778889600-1779062399@abdoathle.fr
SUMMARY:FFA Champ InterClubs Lifa 2e Tour
DESCRIPTION:
URL:https://abdoathle.fr/event/ffa-champ-interclubs-lifa-2e-tour/
CATEGORIES:FFA,FFA - Piste
END:VEVENT
BEGIN:VEVENT
DTSTART;VALUE=DATE:20260516
DTEND;VALUE=DATE:20260518
DTSTAMP:20260423T120151
CREATED:20260422T192413Z
LAST-MODIFIED:20260422T192550Z
UID:38093-1778889600-1779062399@abdoathle.fr
SUMMARY:FFA Champ de France des Clubs
DESCRIPTION:
URL:https://abdoathle.fr/event/fa-champ-de-france-des-clubs/
CATEGORIES:FFA,FFA - Piste
END:VEVENT
BEGIN:VEVENT
DTSTART;VALUE=DATE:20260520
DTEND;VALUE=DATE:20260521
DTSTAMP:20260423T120151
CREATED:20260422T192504Z
LAST-MODIFIED:20260422T192504Z
UID:38095-1779235200-1779321599@abdoathle.fr
SUMMARY:FFA Les Mercredis de Bondy
DESCRIPTION:
URL:https://abdoathle.fr/event/ffa-les-mercredis-de-bondy/
CATEGORIES:FFA,FFA - Piste
END:VEVENT
BEGIN:VEVENT
DTSTART;VALUE=DATE:20260521
DTEND;VALUE=DATE:20260522
DTSTAMP:20260423T120151
CREATED:20260220T215628Z
LAST-MODIFIED:20260220T215628Z
UID:38029-1779321600-1779407999@abdoathle.fr
SUMMARY:FSGT Festival des Pratiques Partagées
DESCRIPTION:Grande Nef\, Saint-Ouen-sur-Seine
URL:https://abdoathle.fr/event/fsgt-festival-des-pratiques-partagees/
CATEGORIES:FSGT
END:VEVENT
BEGIN:VEVENT
DTSTART;VALUE=DATE:20260523
DTEND;VALUE=DATE:20260524
DTSTAMP:20260423T120151
CREATED:20260422T192754Z
LAST-MODIFIED:20260422T193217Z
UID:38102-1779494400-1779580799@abdoathle.fr
SUMMARY:FFA Lifa Equip Athlé Minimes
DESCRIPTION:Franconville
URL:https://abdoathle.fr/event/ffa-lifa-equip-athle-minimes/
CATEGORIES:FFA,FFA - Piste
END:VEVENT
BEGIN:VEVENT
DTSTART;VALUE=DATE:20260523
DTEND;VALUE=DATE:20260525
DTSTAMP:20260423T120151
CREATED:20260422T192655Z
LAST-MODIFIED:20260422T192655Z
UID:38100-1779494400-1779667199@abdoathle.fr
SUMMARY:FFA Finale Nationale Equip'Athle
DESCRIPTION:
URL:https://abdoathle.fr/event/ffa-finale-nationale-equipathle/
CATEGORIES:FFA,FFA - Piste
END:VEVENT
BEGIN:VEVENT
DTSTART;VALUE=DATE:20260524
DTEND;VALUE=DATE:20260525
DTSTAMP:20260423T120151
CREATED:20260422T192852Z
LAST-MODIFIED:20260422T193314Z
UID:38104-1779580800-1779667199@abdoathle.fr
SUMMARY:FFA Finale LIFA Equip'Athlé Benjamins
DESCRIPTION:
URL:https://abdoathle.fr/event/ffa-finale-lifa-equipathle-benjamins/
CATEGORIES:FFA,FFA - Piste
END:VEVENT
BEGIN:VEVENT
DTSTART;VALUE=DATE:20260525
DTEND;VALUE=DATE:20260526
DTSTAMP:20260423T120151
CREATED:20260422T192939Z
LAST-MODIFIED:20260422T192939Z
UID:38106-1779667200-1779753599@abdoathle.fr
SUMMARY:FFA Meeting Saint Denis Emotion
DESCRIPTION:
URL:https://abdoathle.fr/event/ffa-meeting-saint-denis-emotion/
CATEGORIES:FFA,FFA - Piste
END:VEVENT
BEGIN:VEVENT
DTSTART;VALUE=DATE:20260527
DTEND;VALUE=DATE:20260528
DTSTAMP:20260423T120151
CREATED:20260422T193034Z
LAST-MODIFIED:20260422T193034Z
UID:38108-1779840000-1779926399@abdoathle.fr
SUMMARY:FFA Champ IDF de Relais
DESCRIPTION:Epinay sur Seine
URL:https://abdoathle.fr/event/ffa-champ-idf-de-relais/
CATEGORIES:FFA,FFA - Piste
END:VEVENT
BEGIN:VEVENT
DTSTART;VALUE=DATE:20260527
DTEND;VALUE=DATE:20260528
DTSTAMP:20260423T120151
CREATED:20260422T193530Z
LAST-MODIFIED:20260422T193530Z
UID:38113-1779840000-1779926399@abdoathle.fr
SUMMARY:FFA Champ Depart de Steeple\, \, 3000m et 5000m 93-94
DESCRIPTION:Saint Maur
URL:https://abdoathle.fr/event/ffa-champ-depart-de-steeple-3000m-et-5000m-93-94/
CATEGORIES:FFA,FFA - Piste
END:VEVENT
BEGIN:VEVENT
DTSTART;VALUE=DATE:20260529
DTEND;VALUE=DATE:20260530
DTSTAMP:20260423T120151
CREATED:20260220T215737Z
LAST-MODIFIED:20260220T215737Z
UID:38031-1780012800-1780099199@abdoathle.fr
SUMMARY:FSGT Gala des Pratiques Partagées
DESCRIPTION:Théâtre du Garde-Chasse\, Les Lilas
URL:https://abdoathle.fr/event/fsgt-gala-des-pratiques-partagees/
CATEGORIES:FSGT
END:VEVENT
BEGIN:VEVENT
DTSTART;VALUE=DATE:20260529
DTEND;VALUE=DATE:20260530
DTSTAMP:20260423T120151
CREATED:20260422T194122Z
LAST-MODIFIED:20260422T194122Z
UID:38115-1780012800-1780099199@abdoathle.fr
SUMMARY:FFA Meeting de Noisy Le Grand
DESCRIPTION:
URL:https://abdoathle.fr/event/ffa-meeting-de-noisy-le-grand/
CATEGORIES:FFA,FFA - Piste
END:VEVENT
BEGIN:VEVENT
DTSTART;VALUE=DATE:20260531
DTEND;VALUE=DATE:20260601
DTSTAMP:20260423T120151
CREATED:20251104T232612Z
LAST-MODIFIED:20260211T094909Z
UID:37977-1780185600-1780271999@abdoathle.fr
SUMMARY:FSGT Champ Régional Enfants
DESCRIPTION:dimanche 31 mai 2026 Piste Championnat Régional Enfants ?
URL:https://abdoathle.fr/event/championnat-regional-enfants-4/
CATEGORIES:FSGT - Piste
END:VEVENT
BEGIN:VEVENT
DTSTART;VALUE=DATE:20260531
DTEND;VALUE=DATE:20260601
DTSTAMP:20260423T120151
CREATED:20260422T194256Z
LAST-MODIFIED:20260422T194256Z
UID:38117-1780185600-1780271999@abdoathle.fr
SUMMARY:FFA Champ 93 de Triathlon et individuels Be-Mi
DESCRIPTION:Aulnay Sous Bois
URL:https://abdoathle.fr/event/ffa-champ-93-de-triathlon-et-individuels-be-mi/
CATEGORIES:FFA,FFA - Piste
END:VEVENT
BEGIN:VEVENT
DTSTART;VALUE=DATE:20260531
DTEND;VALUE=DATE:20260601
DTSTAMP:20260423T120151
CREATED:20260422T194413Z
LAST-MODIFIED:20260422T194413Z
UID:38119-1780185600-1780271999@abdoathle.fr
SUMMARY:FFA Foulées de Noisy Le Grand
DESCRIPTION:
URL:https://abdoathle.fr/event/ffa-foulees-de-noisy-le-grand/
CATEGORIES:FFA,FFA - Route
END:VEVENT
BEGIN:VEVENT
DTSTART;VALUE=DATE:20260531
DTEND;VALUE=DATE:20260601
DTSTAMP:20260423T120151
CREATED:20260422T194458Z
LAST-MODIFIED:20260422T194458Z
UID:38121-1780185600-1780271999@abdoathle.fr
SUMMARY:FFA 46E Foulées Pantinoises
DESCRIPTION:
URL:https://abdoathle.fr/event/ffa-46e-foulees-pantinoises/
CATEGORIES:FFA,FFA - Route
END:VEVENT
END:VCALENDAR